BEGIN:VCALENDAR
VERSION:2.0
PRODID:-//Leeds for Change - ECPv4.6.15//NONSGML v1.0//EN
CALSCALE:GREGORIAN
METHOD:PUBLISH
X-WR-CALNAME:Leeds for Change
X-ORIGINAL-URL:https://leedsforchange.org.uk
X-WR-CALDESC:Events for Leeds for Change
BEGIN:VEVENT
DTSTART;TZID=UTC+0:20190921T103000
DTEND;TZID=UTC+0:20190921T163000
DTSTAMP:20260424T173550
CREATED:20190828T134454Z
LAST-MODIFIED:20190828T134454Z
UID:14525-1569058200-1569079800@leedsforchange.org.uk
SUMMARY:Y&H Regional Conference 2019
DESCRIPTION:The Conference will include: \nA panel on the new political opportunities for the Green Party with Magid’s election as MEP\, the York City Council Greens/Lib Dem partnership and the experience of listening to people & engaging with those with different opinions to Greens e.g. Brexiteers \nA session on how Greens can continue to be at the forefront of climate emergency work \nA session on how to contribute to our 2020 local election campaigns \nA session on getting our messages/perspectives across by connecting with the print media with good press releases and relationships with local papers. \nAs part of this the Yorkshire and the Humber Green Party will be holding its AGM and General Meeting 12.15-1.15pm. \n
URL:https://leedsforchange.org.uk/event/yh-regional-conference-2019/
ATTACH;FMTTYPE=image/jpeg:https://leedsforchange.org.uk/assets/uploads/2019/08/66828983_1069549343241500_9185765213016686592_o.jpg
END:VEVENT
END:VCALENDAR