BEGIN:VCALENDAR
VERSION:2.0
PRODID:-//Leeds for Change - ECPv4.6.15//NONSGML v1.0//EN
CALSCALE:GREGORIAN
METHOD:PUBLISH
X-WR-CALNAME:Leeds for Change
X-ORIGINAL-URL:https://leedsforchange.org.uk
X-WR-CALDESC:Events for Leeds for Change
BEGIN:VEVENT
DTSTART;TZID=UTC+0:20190921T100000
DTEND;TZID=UTC+0:20190921T190000
DTSTAMP:20260424T191457
CREATED:20190910T142012Z
LAST-MODIFIED:20190910T142012Z
UID:14657-1569056400-1569088800@leedsforchange.org.uk
SUMMARY:World Peace Day Exhibition and Film
DESCRIPTION:WORLD PEACE DAY EXHIBITION \nSaturday 21st September 2019 \n10am to 7pm \nRoundhay Quaker Meeting \n136 Street Lane\, Leeds\, LS8 2BW \nExhibition commemorating Quaker Service\, featuring the Friends Ambulance Service and The Friends Relief Service. \nIf you have wondered about the options for Conscientious Objectors (to military service) this exhibition gives some of the answers. Quaker involvement in large-scale relief started with the Irish Potato Famine in 1846. In 1870 Quakers provided relief to the civilian population during the Franco – Prussian War. In both the first and second world wars Quakers provided ambulance and humanitarian support. From 1933 onwards British Quakers provide assistance to victims of Nazism including 10\,000 unaccompanied children on the scheme now know as the Kindertransport. \nPreview of the Exhibition at 136 Street Lane on Friday 20th September from 2.30pm to 5.30pm \n  \nFilm   7pm on Saturday 21st September \nMoving to Mars \nFollow two refugee families from Burma over the course of a year that will change their lives completely. Forced from their homeland by the repressive military junta\, they have lived in a Thai refugee camp\, some for almost twenty years. A resettlement scheme offers them the chance of a new life; but their new home\, in the British city of Sheffield\, will be different to everything they’ve ever known. \nAdmission to both the Exhibition and the film will be free although donations will be welcome. \n
URL:https://leedsforchange.org.uk/event/world-peace-day-exhibition-and-film/
LOCATION:136 Street Lane\, LS8 2BW
GEO:53.8448981;-1.5148072
X-APPLE-STRUCTURED-LOCATION;VALUE=URI;X-ADDRESS=136 Street Lane LS8 2BW;X-APPLE-RADIUS=500;X-TITLE=136 Street Lane:geo:-1.5148072,53.8448981
ATTACH;FMTTYPE=image/png:https://leedsforchange.org.uk/assets/uploads/2019/09/Screen-Shot-2019-09-10-at-15.15.48.png
END:VEVENT
END:VCALENDAR