BEGIN:VCALENDAR
VERSION:2.0
PRODID:-//Leeds for Change - ECPv4.6.15//NONSGML v1.0//EN
CALSCALE:GREGORIAN
METHOD:PUBLISH
X-WR-CALNAME:Leeds for Change
X-ORIGINAL-URL:https://leedsforchange.org.uk
X-WR-CALDESC:Events for Leeds for Change
BEGIN:VEVENT
DTSTART;TZID=UTC+0:20190309T103000
DTEND;TZID=UTC+0:20190309T123000
DTSTAMP:20260421T104424
CREATED:20190212T161907Z
LAST-MODIFIED:20190219T115857Z
UID:12623-1552127400-1552134600@leedsforchange.org.uk
SUMMARY:Women and Socialism #IWDLeeds2019
DESCRIPTION:\n\nTo mark IWD 2019 this exciting event reflects upon women’s struggles at the local and global level\, and discusses the significance of solidarity and resistance in the fight against gendered\, racialized and capitalist structures of oppression. All Welcome! \nSpeakers include: \nJane Aitchison (Parliamentary candidate for Pudsey) \nKarma Nabulsi (Former PLO representative at the United Nations and academic) \nSarah Woolley (B.F.A.W.U Organizing regional secretary) \nKaty Sian (Anti-racist activist\, lecturer & women‘s officer – Leeds momentum) \n\n\n
URL:https://leedsforchange.org.uk/event/women-and-socialism-iwdleeds2019/
LOCATION:Leeds Civic Hall\, LS1 1UR
GEO:53.802202;-1.548522
X-APPLE-STRUCTURED-LOCATION;VALUE=URI;X-ADDRESS=Leeds Civic Hall LS1 1UR;X-APPLE-RADIUS=500;X-TITLE=Leeds Civic Hall:geo:-1.548522,53.802202
ATTACH;FMTTYPE=image/jpeg:https://leedsforchange.org.uk/assets/uploads/2019/02/ws.jpe
END:VEVENT
END:VCALENDAR