BEGIN:VCALENDAR
VERSION:2.0
PRODID:-//Leeds for Change - ECPv4.6.15//NONSGML v1.0//EN
CALSCALE:GREGORIAN
METHOD:PUBLISH
X-WR-CALNAME:Leeds for Change
X-ORIGINAL-URL:https://leedsforchange.org.uk
X-WR-CALDESC:Events for Leeds for Change
BEGIN:VEVENT
DTSTART;TZID=UTC+0:20181214T130000
DTEND;TZID=UTC+0:20181214T150000
DTSTAMP:20260422T004003
CREATED:20181126T154711Z
LAST-MODIFIED:20181126T154711Z
UID:11317-1544792400-1544799600@leedsforchange.org.uk
SUMMARY:Will we get home for Christmas?
DESCRIPTION:A brand new festive musical from the Pyramid High Rise Music Group. \nThis relaxed performance is free to attend and you don’t need a ticket; just turn up. \n
URL:https://leedsforchange.org.uk/event/will-we-get-home-for-christmas/
LOCATION:Unit 68B\, Barkston House\, Croydon St\, LS11 9RT
GEO:53.787863;-1.566004
X-APPLE-STRUCTURED-LOCATION;VALUE=URI;X-ADDRESS=Unit 68B Barkston House Croydon St LS11 9RT;X-APPLE-RADIUS=500;X-TITLE=Unit 68B\, Barkston House\, Croydon St:geo:-1.566004,53.787863
ATTACH;FMTTYPE=image/png:https://leedsforchange.org.uk/assets/uploads/2018/11/Home.png
END:VEVENT
END:VCALENDAR