BEGIN:VCALENDAR
VERSION:2.0
PRODID:-//Leeds for Change - ECPv4.6.15//NONSGML v1.0//EN
CALSCALE:GREGORIAN
METHOD:PUBLISH
X-WR-CALNAME:Leeds for Change
X-ORIGINAL-URL:https://leedsforchange.org.uk
X-WR-CALDESC:Events for Leeds for Change
BEGIN:VEVENT
DTSTART;TZID=UTC+0:20190205T180000
DTEND;TZID=UTC+0:20190205T200000
DTSTAMP:20260423T001850
CREATED:20190125T161210Z
LAST-MODIFIED:20190125T161536Z
UID:12330-1549389600-1549396800@leedsforchange.org.uk
SUMMARY:Why Is My Curriculum White: Decolonising Geographies
DESCRIPTION:To follow on from Melz’ amazing work highlighting the Eurocentric and colonial nature of our curriculum(s) and the institution in general\, we want to continue the Why Is My Curriculum White conversation. \nThe evening will consist of speakers: Dr. Laura Loyola-Hernandez (University of Leeds)\, Dr. Fozia Bora (University of Leeds)\, Dr. Patricia Noxolo (University of Birmingham) and Dr. Patricia Daley (University of Oxford). It will highlight the ways in which Geography and other interdisciplinary departments focus on producing\, reproducing and perpetuating Eurocentric knowledge and modes of teaching. The aim of the evening is to identify existing issues and practical ways in which we\, as students\, can begin to diversify our institution\, beginning with our curriculum(s). \nCo-coordinated by Leeds University Union and co-funded by School of Geography. \n
URL:https://leedsforchange.org.uk/event/why-is-my-curriculum-white-decolonising-geographies/
LOCATION:Michael Sadler Building\, University of Leeds\, LS2 9JT
GEO:53.8070785;-1.5534211
X-APPLE-STRUCTURED-LOCATION;VALUE=URI;X-ADDRESS=Michael Sadler Building University of Leeds LS2 9JT;X-APPLE-RADIUS=500;X-TITLE=Michael Sadler Building\, University of Leeds:geo:-1.5534211,53.8070785
ATTACH;FMTTYPE=image/jpeg:https://leedsforchange.org.uk/assets/uploads/2019/01/geog.jpg
END:VEVENT
END:VCALENDAR