BEGIN:VCALENDAR
VERSION:2.0
PRODID:-//Leeds for Change - ECPv4.6.15//NONSGML v1.0//EN
CALSCALE:GREGORIAN
METHOD:PUBLISH
X-WR-CALNAME:Leeds for Change
X-ORIGINAL-URL:https://leedsforchange.org.uk
X-WR-CALDESC:Events for Leeds for Change
BEGIN:VEVENT
DTSTART;TZID=UTC+0:20190917T180000
DTEND;TZID=UTC+0:20190917T200000
DTSTAMP:20260421T011512
CREATED:20190828T135757Z
LAST-MODIFIED:20190828T135757Z
UID:14539-1568739600-1568746800@leedsforchange.org.uk
SUMMARY:West Yorkshire Queer Stories Showcase
DESCRIPTION:The West Yorkshire Queer Stories Showcase is a celebration of queer experience past and present. This free event features a selection of new short films brought to life by discussion and artefacts from local LGBTIQ+ history. \nWest Yorkshire Queer Stories has been gathering oral histories from a diverse range of LGBTIQ+ people across the region\, as part of an archiving initiative supported by the National Lottery Heritage Fund and Yorkshire MESMAC. The resulting films and recordings will not only help diversify the collections of local museums and archives\, but also feed into new resources\, artistic endeavours and the way we think about the people’s history of Leeds and beyond. \nThis event will showcase a range of new short films made especially for the project\, exploring queer people’s relationships to the objects and heirlooms they hold dear\, and how the memories attached can be preserved for the future. \nYou do not a ticket in advance for this event. \nDoors open at 6pm for visitors to browse the accompanying artefacts. \nCert.15 (advisory) \n
URL:https://leedsforchange.org.uk/event/west-yorkshire-queer-stories-showcase/
LOCATION:73 Brudenell Road\, Leeds\, LS6 1JD\, United Kingdom
GEO:53.8120962;-1.5693501
X-APPLE-STRUCTURED-LOCATION;VALUE=URI;X-ADDRESS=73 Brudenell Road Leeds LS6 1JD United Kingdom;X-APPLE-RADIUS=500;X-TITLE=73 Brudenell Road:geo:-1.5693501,53.8120962
ATTACH;FMTTYPE=image/jpeg:https://leedsforchange.org.uk/assets/uploads/2019/08/68557616_10158830022494056_7277323501793443840_o.jpg
END:VEVENT
END:VCALENDAR