BEGIN:VCALENDAR
VERSION:2.0
PRODID:-//Leeds for Change - ECPv4.6.15//NONSGML v1.0//EN
CALSCALE:GREGORIAN
METHOD:PUBLISH
X-WR-CALNAME:Leeds for Change
X-ORIGINAL-URL:https://leedsforchange.org.uk
X-WR-CALDESC:Events for Leeds for Change
BEGIN:VEVENT
DTSTART;TZID=UTC+0:20190916T200000
DTEND;TZID=UTC+0:20190916T230000
DTSTAMP:20260421T030637
CREATED:20190717T181526Z
LAST-MODIFIED:20190717T181526Z
UID:14153-1568660400-1568671200@leedsforchange.org.uk
SUMMARY:VOX POP - Part Three: Climate Change
DESCRIPTION:The ‘Vox Pop’ Series is a new series of events at LS6. Taking the form of a TED style talk\, each event will feature a guest speaker and work as a platform to share awareness for a particular subject. \n—\nThe THIRD installment of VOX POP will take the subject of;\nCLIMATE CHANGE. \nTo further open our eyes\, and to speak on the subject\, we will have representatives from the Leeds branches of Extinction Rebellion and YouthStrike4Climate joining us for the evening. \nThe event will be very informative\, and will fall just a few days before the general climate strike on September 20th\, so we really hope you can make it across. \n— \n**These events are open to everyone\, regardless of your level of understanding on the subject in question.\nCome along with an open mind\, expand your knowledge and maybe even learn something new! \nFor more info on the series\, or to keep up to date with upcoming subjects\, join this group;\nVox Pop Series at LS6 \n
URL:https://leedsforchange.org.uk/event/vox-pop-part-three-climate-change/
LOCATION:16 Headingley Lane\, LS6 2AS
GEO:53.8151103;-1.5621034
X-APPLE-STRUCTURED-LOCATION;VALUE=URI;X-ADDRESS=16 Headingley Lane LS6 2AS;X-APPLE-RADIUS=500;X-TITLE=16 Headingley Lane:geo:-1.5621034,53.8151103
ATTACH;FMTTYPE=image/jpeg:https://leedsforchange.org.uk/assets/uploads/2019/07/Vox-Pop-Climate-Change.jpg
END:VEVENT
END:VCALENDAR