BEGIN:VCALENDAR
VERSION:2.0
PRODID:-//Leeds for Change - ECPv4.6.15//NONSGML v1.0//EN
CALSCALE:GREGORIAN
METHOD:PUBLISH
X-WR-CALNAME:Leeds for Change
X-ORIGINAL-URL:https://leedsforchange.org.uk
X-WR-CALDESC:Events for Leeds for Change
BEGIN:VEVENT
DTSTART;TZID=UTC+1:20180411T140000
DTEND;TZID=UTC+1:20180411T160000
DTSTAMP:20260422T112800
CREATED:20180404T165400Z
LAST-MODIFIED:20180404T165400Z
UID:9117-1523451600-1523458800@leedsforchange.org.uk
SUMMARY:Volunteer session on the Sustainable garden
DESCRIPTION:Join us in the Sustainable Garden\, your very own green gym right in the heart of campus! Great for a break during revision.  \nWe run volunteer sessions every Wednesday which are free\, open to everyone and there’s no need to commit or book\, you just turn up.\nYou can come along for a short time or the whole session\, no experience needed. There’s always some produce to take home and lots of opportunities to ask questions\, learn new skills\, share ideas and get stuck in to growing tasty organic vegetables. It’s a great way to chill out\, do something new and meet new friends in a beautiful space. All welcome\, refreshments provided. We provide tools\, and tea and snacks.\nThere are toilets nearby. If you aren’t sure where we are please text/call 07706643035. \n
URL:https://leedsforchange.org.uk/event/volunteer-session-on-the-sustainable-garden-6/
ATTACH;FMTTYPE=image/jpeg:https://leedsforchange.org.uk/assets/uploads/2018/04/facebook_event_177256416417802.jpg
END:VEVENT
END:VCALENDAR