BEGIN:VCALENDAR
VERSION:2.0
PRODID:-//Leeds for Change - ECPv4.6.15//NONSGML v1.0//EN
CALSCALE:GREGORIAN
METHOD:PUBLISH
X-WR-CALNAME:Leeds for Change
X-ORIGINAL-URL:https://leedsforchange.org.uk
X-WR-CALDESC:Events for Leeds for Change
BEGIN:VEVENT
DTSTART;TZID=UTC+0:20200306T170000
DTEND;TZID=UTC+0:20200306T180000
DTSTAMP:20260421T174807
CREATED:20200228T112608Z
LAST-MODIFIED:20200228T112608Z
UID:16380-1583514000-1583517600@leedsforchange.org.uk
SUMMARY:Un(Sustainable) Cosmetics: The Ugly Truth Behind Your Makeup
DESCRIPTION:Hey everybody\, we’re back for another talk! Next Friday we’ll discuss (UN)sustainable cosmetics and the ugly truth makeup can’t cover up\, so that (hopefully) it will be easier to make more sustainable choices. This time we ask you a symbolic donation of 1£ for Rainbow Junktion\, which is an anti-waste and anti-food poverty café in Hyde Park. Rainbow Junktion also aims to create a community as it welcomes everybody and allow you to pay as you feel. See you there! \n
URL:https://leedsforchange.org.uk/event/unsustainable-cosmetics-the-ugly-truth-behind-your-makeup/
ATTACH;FMTTYPE=image/jpeg:https://leedsforchange.org.uk/assets/uploads/2019/10/71170217_2513447538734600_949760553549561856_n.jpg
END:VEVENT
END:VCALENDAR