BEGIN:VCALENDAR
VERSION:2.0
PRODID:-//Leeds for Change - ECPv4.6.15//NONSGML v1.0//EN
CALSCALE:GREGORIAN
METHOD:PUBLISH
X-WR-CALNAME:Leeds for Change
X-ORIGINAL-URL:https://leedsforchange.org.uk
X-WR-CALDESC:Events for Leeds for Change
BEGIN:VEVENT
DTSTART;TZID=UTC+0:20190801T110000
DTEND;TZID=UTC+0:20190801T140000
DTSTAMP:20260426T035744
CREATED:20190731T090742Z
LAST-MODIFIED:20190731T090742Z
UID:14259-1564653600-1564664400@leedsforchange.org.uk
SUMMARY:Universal Credit Day of Action
DESCRIPTION:We will be talking to members of the public about the problems with Universal Credit\, handing out literature and collecting signatures for our petition. Universal Credit causes holiday hunger! \n
URL:https://leedsforchange.org.uk/event/universal-credit-day-of-action/
ATTACH;FMTTYPE=image/jpeg:https://leedsforchange.org.uk/assets/uploads/2019/07/67298647_2752791594748528_1300068703370477568_n.jpg
END:VEVENT
END:VCALENDAR