BEGIN:VCALENDAR
VERSION:2.0
PRODID:-//Leeds for Change - ECPv4.6.15//NONSGML v1.0//EN
CALSCALE:GREGORIAN
METHOD:PUBLISH
X-WR-CALNAME:Leeds for Change
X-ORIGINAL-URL:https://leedsforchange.org.uk
X-WR-CALDESC:Events for Leeds for Change
BEGIN:VEVENT
DTSTART;TZID=UTC+0:20200310T180000
DTEND;TZID=UTC+0:20200310T200000
DTSTAMP:20260421T121522
CREATED:20200131T095645Z
LAST-MODIFIED:20200131T095645Z
UID:16013-1583863200-1583870400@leedsforchange.org.uk
SUMMARY:UBI Lab Leeds Meeting
DESCRIPTION:Promotion and learning about UBI \n
URL:https://leedsforchange.org.uk/event/ubi-lab-leeds-meeting-2/2020-03-10/
LOCATION:Leeds Civic Hall\, LS1 1UR
GEO:53.802202;-1.548522
X-APPLE-STRUCTURED-LOCATION;VALUE=URI;X-ADDRESS=Leeds Civic Hall LS1 1UR;X-APPLE-RADIUS=500;X-TITLE=Leeds Civic Hall:geo:-1.548522,53.802202
ATTACH;FMTTYPE=image/png:https://leedsforchange.org.uk/assets/uploads/2020/01/UBI_Lab_Logo_Leeds-1.png
END:VEVENT
END:VCALENDAR