BEGIN:VCALENDAR
VERSION:2.0
PRODID:-//Leeds for Change - ECPv4.6.15//NONSGML v1.0//EN
CALSCALE:GREGORIAN
METHOD:PUBLISH
X-WR-CALNAME:Leeds for Change
X-ORIGINAL-URL:https://leedsforchange.org.uk
X-WR-CALDESC:Events for Leeds for Change
BEGIN:VEVENT
DTSTART;TZID=UTC+0:20191125T190000
DTEND;TZID=UTC+0:20191125T203000
DTSTAMP:20260425T172713
CREATED:20191119T153934Z
LAST-MODIFIED:20191119T153934Z
UID:15252-1574708400-1574713800@leedsforchange.org.uk
SUMMARY:Training: Labour Manifesto 101
DESCRIPTION:The election’s been called and It’s all hands on deck to get a Labour government by Christmas ?? \nWe can win\, but only if we mobilise our mass membership and get our message of hope out to people. \nLabour’s manifesto promises to be one of the most exciting and serious proposals for change this country has seen in a generation – a blueprint for 21st century socialist policy. \nIn this session we’ll talk through each policy area\, discuss what the key policies are\, how they will be funded\, and how we can effectively communicate them on the doorstep. \nThe venue is wheelchair accessible. Any questions\, message the page or email daldwinkle@gmail.com. \n
URL:https://leedsforchange.org.uk/event/training-labour-manifesto-101/
LOCATION:197 Woodhouse Street\, Leeds\, LS6 2NY\, United Kingdom
GEO:53.8141643;-1.5555974
X-APPLE-STRUCTURED-LOCATION;VALUE=URI;X-ADDRESS=197 Woodhouse Street Leeds LS6 2NY United Kingdom;X-APPLE-RADIUS=500;X-TITLE=197 Woodhouse Street:geo:-1.5555974,53.8141643
ATTACH;FMTTYPE=image/jpeg:https://leedsforchange.org.uk/assets/uploads/2019/10/73225299_993763324314785_5150715482206109696_n.jpg
END:VEVENT
END:VCALENDAR