BEGIN:VCALENDAR
VERSION:2.0
PRODID:-//Leeds for Change - ECPv4.6.15//NONSGML v1.0//EN
CALSCALE:GREGORIAN
METHOD:PUBLISH
X-WR-CALNAME:Leeds for Change
X-ORIGINAL-URL:https://leedsforchange.org.uk
X-WR-CALDESC:Events for Leeds for Change
BEGIN:VEVENT
DTSTART;TZID=UTC+0:20190424T190000
DTEND;TZID=UTC+0:20190424T210000
DTSTAMP:20260419T202452
CREATED:20190401T171236Z
LAST-MODIFIED:20190401T171236Z
UID:13233-1556128800-1556136000@leedsforchange.org.uk
SUMMARY:Three Films for David Oluwale
DESCRIPTION:We will show three short films for David Oluwale\, followed by a Q&A with the directors.  \nWandering Abroad (director Corinne Silva\, 10 mins). This film uses the River Aire as the setting for interviews with Arthur France MBE (who organised the 1971 protests at David’s killing)\, Abiye Hector-Goma (Nigeria Community Leeds) and David’s friend Gabriel Adams. Commissioned by Leeds City Art Gallery. \nWe Are All Migrants (director Rowenna Baldwin\, 25 mins)\, which tells David’s story and includes King David Oluwale and his Migrant Masqueraders at Leeds carnival in 2017. See the trailer here https://vimeo.com/313062504 Commissioned by Harrison Bundey Mama Dread Masqueraders carnival troupe. \nEmpathy (dir Harry Sullivan)\, with Ogun Arts poets performing live at the screening their thoughts on David Oluwale; 3 mins).  \nThere will be a Q&A with the directors after the screening.  \nThis is a “pay as you feel” event (please make a donation if you can) but you must book a ticket so we don’t overfill the venue.  \n
URL:https://leedsforchange.org.uk/event/three-films-for-david-oluwale/
LOCATION:Portland Crescent\,\, Leeds\, LS1 3HE\, United Kingdom
GEO:53.8028873;-1.5470638
X-APPLE-STRUCTURED-LOCATION;VALUE=URI;X-ADDRESS=Portland Crescent Leeds LS1 3HE United Kingdom;X-APPLE-RADIUS=500;X-TITLE=Portland Crescent\,:geo:-1.5470638,53.8028873
ATTACH;FMTTYPE=image/jpeg:https://leedsforchange.org.uk/assets/uploads/2019/04/Oluwale-films.jpg
END:VEVENT
END:VCALENDAR