BEGIN:VCALENDAR
VERSION:2.0
PRODID:-//Leeds for Change - ECPv4.6.15//NONSGML v1.0//EN
CALSCALE:GREGORIAN
METHOD:PUBLISH
X-WR-CALNAME:Leeds for Change
X-ORIGINAL-URL:https://leedsforchange.org.uk
X-WR-CALDESC:Events for Leeds for Change
BEGIN:VEVENT
DTSTART;TZID=UTC+0:20191103T110000
DTEND;TZID=UTC+0:20191103T170000
DTSTAMP:20260423T161515
CREATED:20191031T134801Z
LAST-MODIFIED:20191031T134801Z
UID:15117-1572778800-1572800400@leedsforchange.org.uk
SUMMARY:The Work That Reconnects
DESCRIPTION:Join us as we move together through a simple spiral of The Work That Reconnects; Joanna Macy’s powerful experiential group process. \nDrawing on deep ecology\, systems thinking\, and nondualistic spiritual traditions\, this taster workshop offers an opportunity to give voice to our concerns for our world. The spiral process unblocks feedback loops within us; allowing us to awaken to the powers within essential for the healing of our world. It builds motivation\, creativity and courage in these times. \nThis work\, developed by Joanna Macy and others over several decades of environmental and social activism is at the heart of Extinction Rebellion’s regenerative culture. \nTO RESERVE YOUR SPACE: \n-Places are limited and precious. We therefore ask you to carefully consider if your intention is to commit to attending if you book a place\, we trust in your word as a deposit. To apply please email: XRLeedsRegen@protonmail.com\nto reserve your place including your name and contact telephone number. \n-We wish to a make this work as accessible as possible. As such we invite a pay as you feel / are able donation on the day to cover the running costs of the event. Any excess funds will help support future Work that Reconnects events across the Extinction Rebellion community in the UK. We offer this work because we feel it holds great value in these challenging and beautiful times. \nTravel:\nCapital of Cycling Hub: Hall Ings\, under the NCP Car-park. it is close to the bradford interchange\, across a dual carriageway from the city hall. \nComfort:\nThe venue is likely to be chilly so please bring warm layers to wear or a blanket. \nLunch:\nThis is a bring and share event. Please bring a vegetarian / vegan dish to share. \nFacilitators:\nTom Deacon & Ellie Greenwood will be co-facilitating this event. We look forward to welcoming you as we step into this work together. \n
URL:https://leedsforchange.org.uk/event/the-work-that-reconnects/
LOCATION:Hall Ings\, Bradford\, BD1 5SD
GEO:53.7916196;-1.7528858
X-APPLE-STRUCTURED-LOCATION;VALUE=URI;X-ADDRESS=Hall Ings Bradford BD1 5SD;X-APPLE-RADIUS=500;X-TITLE=Hall Ings:geo:-1.7528858,53.7916196
ATTACH;FMTTYPE=image/jpeg:https://leedsforchange.org.uk/assets/uploads/2019/10/73381198_232625437706390_648374129929486336_n.jpg
END:VEVENT
END:VCALENDAR