BEGIN:VCALENDAR
VERSION:2.0
PRODID:-//Leeds for Change - ECPv4.6.15//NONSGML v1.0//EN
CALSCALE:GREGORIAN
METHOD:PUBLISH
X-WR-CALNAME:Leeds for Change
X-ORIGINAL-URL:https://leedsforchange.org.uk
X-WR-CALDESC:Events for Leeds for Change
BEGIN:VEVENT
DTSTART;TZID=UTC+0:20190130T160000
DTEND;TZID=UTC+0:20190130T173000
DTSTAMP:20260422T001810
CREATED:20190126T094433Z
LAST-MODIFIED:20190126T094433Z
UID:12235-1548864000-1548869400@leedsforchange.org.uk
SUMMARY:The Future of Social Care
DESCRIPTION:How far will BREXIT affect social care in the UK? \nChaired by Dr Charlie Dannreuther (Leeds University)\, two leading researchers of the care economy\, Daniela Tepe-Belfrage (University of Liverpool) and Alex Nunn (Derby University)\, will offer insights and themes to help us to discuss what matters in the care sector and how we might begin to talk about the options for social care after BREXIT. Please come ready to speak and ask questions. Academics will kick off the debate but we are looking to everyone to find the answers. \nFree event for adults. Please book your ticket here: https://www.ticketsource.co.uk/leedslibraryevents \n
URL:https://leedsforchange.org.uk/event/the-future-of-social-care/
LOCATION:Leeds Central Library\, Leeds\, West-Yorkshire\, LS1 2\, United Kingdom
GEO:53.800185;-1.548642
X-APPLE-STRUCTURED-LOCATION;VALUE=URI;X-ADDRESS=Leeds Central Library Leeds West-Yorkshire LS1 2 United Kingdom;X-APPLE-RADIUS=500;X-TITLE=Leeds Central Library:geo:-1.548642,53.800185
ATTACH;FMTTYPE=image/jpeg:https://leedsforchange.org.uk/assets/uploads/2019/01/socialcare.jpg
ORGANIZER;CN="Leeds%20Libraries":MAILTO:libraryenquiries@leeds.gov.uk
END:VEVENT
END:VCALENDAR