BEGIN:VCALENDAR
VERSION:2.0
PRODID:-//Leeds for Change - ECPv4.6.15//NONSGML v1.0//EN
CALSCALE:GREGORIAN
METHOD:PUBLISH
X-WR-CALNAME:Leeds for Change
X-ORIGINAL-URL:https://leedsforchange.org.uk
X-WR-CALDESC:Events for Leeds for Change
BEGIN:VEVENT
DTSTART;TZID=UTC+0:20190331T183000
DTEND;TZID=UTC+0:20190331T210000
DTSTAMP:20260425T163315
CREATED:20190109T133425Z
LAST-MODIFIED:20190109T133425Z
UID:12019-1554053400-1554062400@leedsforchange.org.uk
SUMMARY:The Class-Conflict – Live musical theatre with folk music and dance\, evovled from ancient Bengal
DESCRIPTION:\n\nAfter a hugely successful and house-packed show in London\, this highly popular Bengali opera (Jatra pala/ ancient rural theatre of Bengal) of visceral folk music and dazzling dance in a stunning theatrical setting is touring to Leeds and cities around UK. . \nNarrated in English\, the story unfolds a powerful allegory of modern capitalism through live folk music\, dazzling dance and a unique way of story-telling. \nBased on a feudal society of ancient Bengal\, the story involves a snake charmer and his daughter\, a prince\, and a poisonous snake – will love prevail over class conflict? \nThis form of musical theatre evolved in the ancient Bengal\, and plays an important part in rituals\, music\, folk life and heritage in Bengali culture. \nThis theatre experience will take audiences to the boorish yard under a Banyan tree in the rural village of Bengal\, where these special story-based musicals are traditionally performed. \nProduced by RadhaRaman Society\, this musical is scripted\, adapted and directed by Ahmed Kaysher. \n‘A truly formidable live musical theatre evolved from ancient Bengal with soulful folk music and spectacular dance. The production that gained a standing ovation at Rich Mix theatre in London’. – East London Advertiser \nVenue website: http://www.sevenleeds.co.uk/ \nVenue phone number: 0113 26 26 777 \nVenue email: info@sevenleeds.co.uk \n\n\n
URL:https://leedsforchange.org.uk/event/the-class-conflict-live-musical-theatre-with-folk-music-and-dance-evovled-from-ancient-bengal/
LOCATION:31A Harrogate Road\, Leeds\, LS7 3PD\, United Kingdom
GEO:53.8278011;-1.537324
X-APPLE-STRUCTURED-LOCATION;VALUE=URI;X-ADDRESS=31A Harrogate Road Leeds LS7 3PD United Kingdom;X-APPLE-RADIUS=500;X-TITLE=31A Harrogate Road:geo:-1.537324,53.8278011
ATTACH;FMTTYPE=image/jpeg:https://leedsforchange.org.uk/assets/uploads/2019/01/tree.jpg
END:VEVENT
END:VCALENDAR