BEGIN:VCALENDAR
VERSION:2.0
PRODID:-//Leeds for Change - ECPv4.6.15//NONSGML v1.0//EN
CALSCALE:GREGORIAN
METHOD:PUBLISH
X-WR-CALNAME:Leeds for Change
X-ORIGINAL-URL:https://leedsforchange.org.uk
X-WR-CALDESC:Events for Leeds for Change
BEGIN:VEVENT
DTSTART;TZID=UTC+0:20190130T180000
DTEND;TZID=UTC+0:20190130T191500
DTSTAMP:20260422T015100
CREATED:20181221T105940Z
LAST-MODIFIED:20181221T105940Z
UID:11612-1548871200-1548875700@leedsforchange.org.uk
SUMMARY:Talking Histories: Urban Development of Leeds
DESCRIPTION:From medieval township to complex 21st-century city\, Leeds has grown\, changed and been reinvented as a result of a number of powerful forces. But the process hasn’t always been straightforward or completely successful. Urban geographer Rachael Unsworth will explain how economic\, demographic\, technological\, social\, cultural and political factors influence change\, and what Leeds’ prospects are for the future. \nIf you’d like to make an evening of your visit to Left Bank Leeds\, why not stay for Left Bank Cinema: The Bentley Effect at 8pm? It focuses on a peaceful and strategic community protest movement against the development of a unique part of Australia. You can grab a drink and a snack from the bar in between events. \n– \nAll money raised through this event will support the development of Left Bank Leeds Charitable Trust\, (charity no. 1146734). \nPlease note\, we take photos at our events for marketing purposes. If you would prefer not to appear in our images\, it is your responsibility to speak to a member of staff at the event\, in order to seek out the photographer and inform them of your wishes. \nThere are three ticket options for this event: \nADVANCE CONCESSION (WED 30 JAN\, 6-7:15PM) – £4 \nADVANCE TICKET (WED 30 JAN\, 6-7:15PM) – £5 \nDOUBLE BILL DISCOUNT FOR TALK AND CINEMA – £8 \nVenue website: https://leftbankleeds.org.uk/ \nVenue email: esme@leftbankleeds.org.uk \nVenue phone number: 0113 278 5822 \n
URL:https://leedsforchange.org.uk/event/talking-histories-urban-development-of-leeds/
LOCATION:Leeds\, LS6 1LJ\, United Kingdom
GEO:53.8096171;-1.5744356
ATTACH;FMTTYPE=image/jpeg:https://leedsforchange.org.uk/assets/uploads/2018/12/left-bank.jpg
END:VEVENT
END:VCALENDAR