BEGIN:VCALENDAR
VERSION:2.0
PRODID:-//Leeds for Change - ECPv4.6.15//NONSGML v1.0//EN
CALSCALE:GREGORIAN
METHOD:PUBLISH
X-WR-CALNAME:Leeds for Change
X-ORIGINAL-URL:https://leedsforchange.org.uk
X-WR-CALDESC:Events for Leeds for Change
BEGIN:VEVENT
DTSTART;TZID=UTC+0:20171206T080000
DTEND;TZID=UTC+0:20171206T100000
DTSTAMP:20260422T065240
CREATED:20171129T204020Z
LAST-MODIFIED:20171129T204020Z
UID:7297-1512547200-1512554400@leedsforchange.org.uk
SUMMARY:Stop Blacklisting Day of Action
DESCRIPTION:As part of the National Day of Action against Blacklisting Unite are organising a protest at the Robert McAlpine Site City Square Leeds\, We urge all Community Activists and Trade Unionists to stand with us against this Vicious Anti Union Practice. \n
URL:https://leedsforchange.org.uk/event/stop-blacklisting-day-of-action/
ATTACH;FMTTYPE=image/jpeg:https://leedsforchange.org.uk/assets/uploads/2017/11/facebook_event_305146176658332.jpg
END:VEVENT
END:VCALENDAR