BEGIN:VCALENDAR
VERSION:2.0
PRODID:-//Leeds for Change - ECPv4.6.15//NONSGML v1.0//EN
CALSCALE:GREGORIAN
METHOD:PUBLISH
X-WR-CALNAME:Leeds for Change
X-ORIGINAL-URL:https://leedsforchange.org.uk
X-WR-CALDESC:Events for Leeds for Change
BEGIN:VEVENT
DTSTART;TZID=UTC+0:20190930T170000
DTEND;TZID=UTC+0:20190930T190000
DTSTAMP:20260419T164809
CREATED:20190924T133902Z
LAST-MODIFIED:20190924T133902Z
UID:14756-1569859200-1569866400@leedsforchange.org.uk
SUMMARY:Starting a Housing Cooperative
DESCRIPTION:A lot has changed since our last drop-in session: \n– We spoke to the people of Chaco (Chapeltown Cohousing) and they are going to be selling 3 properties in the Chapeltown area (ideally before Nov 2020) and they are keen to sell them to cooperatives at a favourable rate ! \n– On top of that\, we have spoken to Leeds Community Homes and there is a possibility to get £4\,000 grant from Homes England to help with the initial stages of development for a community lead housing group ! \nhttps://www.communityledhomes.org.uk/get-funding/community-led-homes-start-support-programme \nThis is an amazing opportunity and it would be a shame to pass this by. We want to be help groups to fast track their housing cooperative development – helping create their aims + vision\, apply to funding\, find members\, work out finances and all the rest of it. \nWe invite you to come to Green Wood again\, but this time we are focusing on forming 3 different housing groups. We have already had some interest in starting a queer cooperative\, but the more the merrier. \n
URL:https://leedsforchange.org.uk/event/starting-a-housing-cooperative/
ATTACH;FMTTYPE=image/jpeg:https://leedsforchange.org.uk/assets/uploads/2019/09/71170611_404612573591870_4719071436461834240_n.jpg
END:VEVENT
END:VCALENDAR