BEGIN:VCALENDAR
VERSION:2.0
PRODID:-//Leeds for Change - ECPv4.6.15//NONSGML v1.0//EN
CALSCALE:GREGORIAN
METHOD:PUBLISH
X-WR-CALNAME:Leeds for Change
X-ORIGINAL-URL:https://leedsforchange.org.uk
X-WR-CALDESC:Events for Leeds for Change
BEGIN:VEVENT
DTSTART;TZID=UTC+0:20190424T190000
DTEND;TZID=UTC+0:20190424T220000
DTSTAMP:20260419T183201
CREATED:20190416T154946Z
LAST-MODIFIED:20190416T154946Z
UID:13369-1556128800-1556139600@leedsforchange.org.uk
SUMMARY:Socialist Economics with James Meadway
DESCRIPTION:James Meadway is a former economic advisor to shadow chancellor John McDonnell\, and is currently writing a book on Corbynomics. \nHe’ll be joining us to discuss the economics of Corbynism. What would a socialist economic agenda in the UK look like? How might it differ from models of the past? What role can activists play in delivering an economy that works for the many? \nUnfortunately events like this aren’t free\, so we’re selling (very cheap) tickets for this event. £2 unwaged\, £4 standard\, £6 solidarity. There are also a limited number of free tickets for those who can’t afford to pay. Ticket link here: https://www.eventbrite.co.uk/e/socialist-economics-with-james-meadway-tickets-59262943058 \nListen: ‘After the Crisis: Socialist Economics for Corbynism’ (podcast) – https://novaramedia.com/2019/03/01/after-the-crisis-socialist-economics-for-corbynism/ \nWatch: Lecture at Solidary Bulgaria on austerity – https://www.youtube.com/watch?v=cs7j3cBT2o0 \nRead: ”Democratic Wealth’: clearing a path to the future’ – https://www.opendemocracy.net/en/opendemocracyuk/democratic-wealth-clearing-path-to-future/ \n
URL:https://leedsforchange.org.uk/event/socialist-economics-with-james-meadway-2/
LOCATION:Portland Crescent\, LS1 3HB
GEO:53.8028873;-1.5470638
X-APPLE-STRUCTURED-LOCATION;VALUE=URI;X-ADDRESS=Portland Crescent LS1 3HB;X-APPLE-RADIUS=500;X-TITLE=Portland Crescent:geo:-1.5470638,53.8028873
ATTACH;FMTTYPE=image/jpeg:https://leedsforchange.org.uk/assets/uploads/2019/04/Apr-24-socialist.jpg
END:VEVENT
END:VCALENDAR