BEGIN:VCALENDAR
VERSION:2.0
PRODID:-//Leeds for Change - ECPv4.6.15//NONSGML v1.0//EN
CALSCALE:GREGORIAN
METHOD:PUBLISH
X-WR-CALNAME:Leeds for Change
X-ORIGINAL-URL:https://leedsforchange.org.uk
X-WR-CALDESC:Events for Leeds for Change
BEGIN:VEVENT
DTSTART;TZID=UTC+0:20181112T120000
DTEND;TZID=UTC+0:20181112T140000
DTSTAMP:20260422T203107
CREATED:20181029T165107Z
LAST-MODIFIED:20181107T184121Z
UID:11032-1542024000-1542031200@leedsforchange.org.uk
SUMMARY:Sing The News - Satori In Autumn
DESCRIPTION:\nHave you felt inspired or aggrevated by something you’ve heard in the news/social media? Bring a clip along and learn how easy it is to write a song to express yourself. Hazel Thompson\, an experienced improv songwriter will lead a noon session of singing\, harmonising\, songwriting and most importantly play! Learn how easy it is to express yourself 🙂\n\n
URL:https://leedsforchange.org.uk/event/sing-the-news-satori-in-autumn/2018-11-12/
LOCATION:24 Regent Terrace\, Leeds\, West-Yorkshire\, LS6 1NP\, United Kingdom
GEO:53.808266;-1.5681696
X-APPLE-STRUCTURED-LOCATION;VALUE=URI;X-ADDRESS=24 Regent Terrace Leeds West-Yorkshire LS6 1NP United Kingdom;X-APPLE-RADIUS=500;X-TITLE=24 Regent Terrace:geo:-1.5681696,53.808266
ATTACH;FMTTYPE=image/jpeg:https://leedsforchange.org.uk/assets/uploads/2018/10/900.jpg
END:VEVENT
END:VCALENDAR