BEGIN:VCALENDAR
VERSION:2.0
PRODID:-//Leeds for Change - ECPv4.6.15//NONSGML v1.0//EN
CALSCALE:GREGORIAN
METHOD:PUBLISH
X-WR-CALNAME:Leeds for Change
X-ORIGINAL-URL:https://leedsforchange.org.uk
X-WR-CALDESC:Events for Leeds for Change
BEGIN:VEVENT
DTSTART;TZID=UTC+0:20190129T180000
DTEND;TZID=UTC+0:20190129T200000
DTSTAMP:20260421T203327
CREATED:20181215T202540Z
LAST-MODIFIED:20181215T202540Z
UID:11478-1548784800-1548792000@leedsforchange.org.uk
SUMMARY:Research Nights: Jan 2019
DESCRIPTION:Leeds Doctoral College presents Research Nights – lively\, informal talks and discussion led by PhD researchers from across the University of Leeds. \nOur three speakers will be revealed soon! \nCome and enjoy a sociable evening with others from the postgraduate community\, with food and drinks available from the Pyramid Canteen and a pub quiz! \n
URL:https://leedsforchange.org.uk/event/research-nights-jan-2019/
LOCATION:9 Lifton Place\, Leeds
GEO:53.8074568;-1.5583023
X-APPLE-STRUCTURED-LOCATION;VALUE=URI;X-ADDRESS=9 Lifton Place Leeds;X-APPLE-RADIUS=500;X-TITLE=9 Lifton Place:geo:-1.5583023,53.8074568
ATTACH;FMTTYPE=image/jpeg:https://leedsforchange.org.uk/assets/uploads/2018/12/buildings.jpg
END:VEVENT
END:VCALENDAR