BEGIN:VCALENDAR
VERSION:2.0
PRODID:-//Leeds for Change - ECPv4.6.15//NONSGML v1.0//EN
CALSCALE:GREGORIAN
METHOD:PUBLISH
X-WR-CALNAME:Leeds for Change
X-ORIGINAL-URL:https://leedsforchange.org.uk
X-WR-CALDESC:Events for Leeds for Change
BEGIN:VEVENT
DTSTART;TZID=UTC+0:20190130T100000
DTEND;TZID=UTC+0:20190130T120000
DTSTAMP:20260421T222412
CREATED:20190125T194404Z
LAST-MODIFIED:20190125T194405Z
UID:12310-1548842400-1548849600@leedsforchange.org.uk
SUMMARY:Refill Action Day Leeds
DESCRIPTION:An action day in collaboration with Zero Waste Leeds! \nThe aim is to sign up businesses as new Refill stations in Leeds Kirkgate market and surrounding area. \nNo experience necessary\, just an eagerness to get involved ? \nIf you can come down and get involved\, please see below: \n\n(If you can’t join us\, but would still like to sign up some businesses near you\, please get in touch and I can send you some stickers and more information ? email charlotte@refill.org.uk) \n* Meet at 9:45 at the information center (just inside the entrance opposite John Lewis on George Street)\n* Have a well charged smart phone (if you have one\, don’t worry if you don’t)\n* Have the Refill app downloaded\n* Sign in to the Refill app\n* We will provide leaflets and stickers to distribute and talk you through adding new Refill Stations\n* We will have maps of all the food / drink businesses located in the market\n* We will sign businesses up in groups of 2 or more \n\n
URL:https://leedsforchange.org.uk/event/refill-action-day-leeds/
LOCATION:Vicar Lane\, LS2 7HY
GEO:53.7989199;-1.5396982
X-APPLE-STRUCTURED-LOCATION;VALUE=URI;X-ADDRESS=Vicar Lane LS2 7HY;X-APPLE-RADIUS=500;X-TITLE=Vicar Lane:geo:-1.5396982,53.7989199
ATTACH;FMTTYPE=image/png:https://leedsforchange.org.uk/assets/uploads/2019/01/refill.png
END:VEVENT
END:VCALENDAR