BEGIN:VCALENDAR
VERSION:2.0
PRODID:-//Leeds for Change - ECPv4.6.15//NONSGML v1.0//EN
CALSCALE:GREGORIAN
METHOD:PUBLISH
X-WR-CALNAME:Leeds for Change
X-ORIGINAL-URL:https://leedsforchange.org.uk
X-WR-CALDESC:Events for Leeds for Change
BEGIN:VEVENT
DTSTART;TZID=UTC+0:20190226T190000
DTEND;TZID=UTC+0:20190226T203000
DTSTAMP:20260420T072647
CREATED:20190218T165307Z
LAST-MODIFIED:20190225T042158Z
UID:12724-1551207600-1551213000@leedsforchange.org.uk
SUMMARY:Reading group - The Transitional Programme
DESCRIPTION:Reading group around Leon Trotsky’s 1938 text ‘The Transitional Programme’ \nPublished on the eve of the second world war\, the Transitional Programme outlines a method of linking the demands of day-to-day struggles with the need for fundamental social change. \nCopies available for £2 or you can find it online here – https://www.socialistparty.org.uk/Trotsky/programme/index.html \n
URL:https://leedsforchange.org.uk/event/reading-group-the-transitional-programme/
LOCATION:Leeds\, LS2 9\, United Kingdom
GEO:53.8058297;-1.5489028
ATTACH;FMTTYPE=image/jpeg:https://leedsforchange.org.uk/assets/uploads/2019/02/read.jpg
ORGANIZER;CN="Leeds%20Socialist%20Students":MAILTO:leedsunisocialists@gmail.com
END:VEVENT
END:VCALENDAR