BEGIN:VCALENDAR
VERSION:2.0
PRODID:-//Leeds for Change - ECPv4.6.15//NONSGML v1.0//EN
CALSCALE:GREGORIAN
METHOD:PUBLISH
X-WR-CALNAME:Leeds for Change
X-ORIGINAL-URL:https://leedsforchange.org.uk
X-WR-CALDESC:Events for Leeds for Change
BEGIN:VEVENT
DTSTART;TZID=UTC+0:20181118T140000
DTEND;TZID=UTC+0:20181118T170000
DTSTAMP:20260422T152415
CREATED:20181029T171614Z
LAST-MODIFIED:20181029T171614Z
UID:11054-1542549600-1542560400@leedsforchange.org.uk
SUMMARY:Radical Marginals with Chris Williamson MP
DESCRIPTION:We could face a general election at any time. It’s important that we as activists are ready. \nJoin Leeds LRC and Chris Williamson MP for a workshop on how to campaign in marginal seats on a radical platform. In the 2017 GE Chris’ seat was one of the most marginal in the country\, yet he stuck by his politics and increased his majority to over 2000. \nWe have two marginal seats with left wing PPC’s – Jane Aitchison in Pudsey and Deanne Ferguson in Morley & Outwood. Come to this workshop and develop your campaigning skills. \nEntry is on a pay as you feel basis. All are welcome\, provisions will be made if parents need to bring children. All profits will go to the campaigns of Deanne and Jane. \n
URL:https://leedsforchange.org.uk/event/radical-marginals-with-chris-williamson-mp/
LOCATION:Admiral Street\, Leeds\, LS11 5NG
GEO:53.7816429;-1.544154
X-APPLE-STRUCTURED-LOCATION;VALUE=URI;X-ADDRESS=Admiral Street Leeds LS11 5NG;X-APPLE-RADIUS=500;X-TITLE=Admiral Street:geo:-1.544154,53.7816429
ATTACH;FMTTYPE=image/jpeg:https://leedsforchange.org.uk/assets/uploads/2018/10/Corbs.jpg
END:VEVENT
END:VCALENDAR