BEGIN:VCALENDAR
VERSION:2.0
PRODID:-//Leeds for Change - ECPv4.6.15//NONSGML v1.0//EN
CALSCALE:GREGORIAN
METHOD:PUBLISH
X-WR-CALNAME:Leeds for Change
X-ORIGINAL-URL:https://leedsforchange.org.uk
X-WR-CALDESC:Events for Leeds for Change
BEGIN:VEVENT
DTSTART;TZID=UTC+0:20200319T180000
DTEND;TZID=UTC+0:20200319T220000
DTSTAMP:20260422T014358
CREATED:20200228T113034Z
LAST-MODIFIED:20200228T113034Z
UID:16385-1584640800-1584655200@leedsforchange.org.uk
SUMMARY:Programme Launch Night for Leeds Queer Film Festival 2020
DESCRIPTION:Come pick up your free copy of the full festival programme and watch some great films to see what we’re all about! \n6pm – DOORS OPEN\nLush vegan food and snacks available. Plus\, the bar will be open for booze and soft drinks. \n7pm – SHORT FILMS (TBC) \n8pm – BOOKSMART\nOn the eve of their high school graduation\, two academic superstars and best friends realise that they should have worked less and played more. Determined never to fall short of their peers\, the girls set out on a mission to cram four years of fun into one night. \n“Every aspect about ‘Booksmart’ subverts the stereotypical high school film\, there are no eye roll moments of despair\, every second is gold.” \nTickets on the door – Pay What You Can from £0 to £6.\nCash or Card payment available. \nLEEDS QUEER FILM FESTIVAL 2020 TAKES PLACE WED 22 – SUN 26 APRIL AT CLAY: Centre for Live Art Yorkshire.\nFestival Passes now on sale: https://www.eventbrite.co.uk/e/leeds-queer-film-festival-2020-tickets-56058989948\nOR Day Passes will be available on the door Pay What You Can \n———————–\nACCESS INFORMATION:\n– The venue is wheelchair accessible with a single step entrance with optional ramp.\n– Off-street parking is available nearby (charges may apply).\n– All toilets are for all genders. An accessible toilet will be available.\n– There is a range of seating available in the screening room: hard backed chairs\, sofas\, beanbags. If you need to enter the screening room first or need a particular place in the room please let an organiser know.\n– Films will be screened with subtitles. \nIf you would like to discuss any specific access needs please contact us in advance: leedsqueerfilmfestival@gmail.com \n
URL:https://leedsforchange.org.uk/event/programme-launch-night-for-leeds-queer-film-festival-2020/
LOCATION:1-2 Regent Street\, Leeds\, LS2 7QA
GEO:53.8003667;-1.533604
X-APPLE-STRUCTURED-LOCATION;VALUE=URI;X-ADDRESS=1-2 Regent Street Leeds LS2 7QA;X-APPLE-RADIUS=500;X-TITLE=1-2 Regent Street:geo:-1.533604,53.8003667
ATTACH;FMTTYPE=image/jpeg:https://leedsforchange.org.uk/assets/uploads/2020/02/84944939_2941293189234974_8950008715767971840_n.jpg
END:VEVENT
END:VCALENDAR