BEGIN:VCALENDAR
VERSION:2.0
PRODID:-//Leeds for Change - ECPv4.6.15//NONSGML v1.0//EN
CALSCALE:GREGORIAN
METHOD:PUBLISH
X-WR-CALNAME:Leeds for Change
X-ORIGINAL-URL:https://leedsforchange.org.uk
X-WR-CALDESC:Events for Leeds for Change
BEGIN:VEVENT
DTSTART;TZID=UTC+0:20190130T180000
DTEND;TZID=UTC+0:20190130T220000
DTSTAMP:20260422T033648
CREATED:20190125T193719Z
LAST-MODIFIED:20190125T193719Z
UID:12315-1548871200-1548885600@leedsforchange.org.uk
SUMMARY:Plastic\, Plastic\, Plastic: Green Drinks Leeds January 2019
DESCRIPTION:When you take your bin out what do you see? A sea of non recyclable plastic\, packaging brimming over? Do you buy food with everything wrapped in non biodegradable plastic? \n• What is the effect that plastic is having on our land\, waterways and oceans?\n• How toxic is plastic to us?\n• How long does plastic last for? \nThe author of My Plastic Free Year\, Alexis Percival\, will talk about the issues that plastic has created and guide you on some simple tips as to what can we do to reduce our plastic consumption in 2019 and forever more. She will bring along to Green Drinks Leeds some of the plastic free alternatives that are on the market now to help you eliminate plastic from your life. \n
URL:https://leedsforchange.org.uk/event/plastic-plastic-plastic-green-drinks-leeds-january-2019/
LOCATION:11 Mill Hill\, Leeds\, LS1 2DQ\, United Kingdom
GEO:53.7953047;-1.5456611
X-APPLE-STRUCTURED-LOCATION;VALUE=URI;X-ADDRESS=11 Mill Hill Leeds LS1 2DQ United Kingdom;X-APPLE-RADIUS=500;X-TITLE=11 Mill Hill:geo:-1.5456611,53.7953047
ATTACH;FMTTYPE=image/jpeg:https://leedsforchange.org.uk/assets/uploads/2019/01/plastic.jpg
ORGANIZER;CN="Green%20Drinks%20Leeds":MAILTO:greendrinksleeds@gmail.com
END:VEVENT
END:VCALENDAR