BEGIN:VCALENDAR
VERSION:2.0
PRODID:-//Leeds for Change - ECPv4.6.15//NONSGML v1.0//EN
CALSCALE:GREGORIAN
METHOD:PUBLISH
X-WR-CALNAME:Leeds for Change
X-ORIGINAL-URL:https://leedsforchange.org.uk
X-WR-CALDESC:Events for Leeds for Change
BEGIN:VEVENT
DTSTART;TZID=UTC+0:20190922T130000
DTEND;TZID=UTC+0:20190922T150000
DTSTAMP:20260424T142641
CREATED:20190910T132714Z
LAST-MODIFIED:20190910T132714Z
UID:14646-1569153600-1569160800@leedsforchange.org.uk
SUMMARY:People NOT Profits: Save Our Homes LS26
DESCRIPTION:“Once again we return outside of Leeds Art Gallery to demand that Leeds City Council votes in favour of communities rather than help line capitalist pockets. \nDespite a 70 week waiting list (minimum*) for residents to be rehomed and the council’s promise to reduce carbon emissions by 70% by 2025\, the council are considering granting planning permission for property investors Pemberstone to needlessly destroy and rebuild 70 homes. We think that is unacceptable. \nOur last demo in June (which you can read more about here: https://www.yorkshireeveningpost.co.uk/news/latest/residents-facing-eviction-due-to-plans-to-demolish-70-leeds-home-protest-in-city-centre-1-9849094) helped spread some awareness. Now what we need is action. Ahead of the council’s decision at 12:30 on the 3rd October at Civic Hall\, we ask you all to come out and protest with us. \n*A 70 week wait is for those who are seen as ‘highest priority\,’ which means some residents could be waiting a lot longer. \nFind out more about the Save Our Homes LS26 campaign here: saveourhomesls26.org“ \n
URL:https://leedsforchange.org.uk/event/people-not-profits-save-our-homes-ls26/
LOCATION:The Headrow\, LS1 3AA
GEO:53.7995934;-1.5480593
X-APPLE-STRUCTURED-LOCATION;VALUE=URI;X-ADDRESS=The Headrow LS1 3AA;X-APPLE-RADIUS=500;X-TITLE=The Headrow:geo:-1.5480593,53.7995934
ATTACH;FMTTYPE=image/jpeg:https://leedsforchange.org.uk/assets/uploads/2019/09/70187554_372523200110346_5157795465210626048_n.jpg
END:VEVENT
END:VCALENDAR