BEGIN:VCALENDAR
VERSION:2.0
PRODID:-//Leeds for Change - ECPv4.6.15//NONSGML v1.0//EN
CALSCALE:GREGORIAN
METHOD:PUBLISH
X-WR-CALNAME:Leeds for Change
X-ORIGINAL-URL:https://leedsforchange.org.uk
X-WR-CALDESC:Events for Leeds for Change
BEGIN:VEVENT
DTSTART;TZID=UTC+0:20190607T120000
DTEND;TZID=UTC+0:20190607T150000
DTSTAMP:20260420T171144
CREATED:20190517T173934Z
LAST-MODIFIED:20190517T173934Z
UID:13637-1559905200-1559916000@leedsforchange.org.uk
SUMMARY:Party for the Planet!
DESCRIPTION:We’re showing the university\, the government\, the whole wide world that the inaction on climate change has to stop. \nAnd we’re doing it in true Leeds style… \nSo come along to our Party for the Planet! Invite your friends\, have a boogie and help take back our future. \nMore to be revealed soon! \n
URL:https://leedsforchange.org.uk/event/party-for-the-planet-2/
LOCATION:Leeds\, LS2 9\, United Kingdom
GEO:53.8058297;-1.5489028
ATTACH;FMTTYPE=image/jpeg:https://leedsforchange.org.uk/assets/uploads/2019/05/IMG_0182.jpg
END:VEVENT
END:VCALENDAR