BEGIN:VCALENDAR
VERSION:2.0
PRODID:-//Leeds for Change - ECPv4.6.15//NONSGML v1.0//EN
CALSCALE:GREGORIAN
METHOD:PUBLISH
X-WR-CALNAME:Leeds for Change
X-ORIGINAL-URL:https://leedsforchange.org.uk
X-WR-CALDESC:Events for Leeds for Change
BEGIN:VEVENT
DTSTART;TZID=UTC+0:20190406T100000
DTEND;TZID=UTC+0:20190408T100000
DTSTAMP:20260420T175016
CREATED:20190401T165909Z
LAST-MODIFIED:20190401T165909Z
UID:13204-1554541200-1554714000@leedsforchange.org.uk
SUMMARY:Orchards\, wheat fields and mud walls!
DESCRIPTION:Help us Plant out fruit trees & bushes to make new orchards ready for a tasty summer harvest. We will also be sowing wheat seed to grow the flour for pizza making in the summer. On the Sunday we will be making preparations to make a cob walls for our round house on the Thursday following (walls made from clay and straw).  \nTo book on please email Primrose.valley.project@gmail.com \nCost £0 – £10\nPay what you can afford. Contributing for this workshop will help make future workshops possible and values the time taken to prepare\, publicise and host the day. If you can’t contribute money you could contribute time/skills please get in touch if you want to contribute in this way. Examples include arriving early to help to set up or pack down\, welcoming people at the gate\, bringing some snacks for participants to share\, making a short video of the day or doing some social media to support it. Any form of contribution is welcomed please get in touch. \n
URL:https://leedsforchange.org.uk/event/orchards-wheat-fields-and-mud-walls/
LOCATION:Leeds\, LS14 6
GEO:53.8422412;-1.4424141
X-APPLE-STRUCTURED-LOCATION;VALUE=URI;X-ADDRESS=Leeds LS14 6;X-APPLE-RADIUS=500;X-TITLE=Leeds:geo:-1.4424141,53.8422412
ATTACH;FMTTYPE=image/jpeg:https://leedsforchange.org.uk/assets/uploads/2019/04/Perma.jpg
END:VEVENT
END:VCALENDAR