BEGIN:VCALENDAR
VERSION:2.0
PRODID:-//Leeds for Change - ECPv4.6.15//NONSGML v1.0//EN
CALSCALE:GREGORIAN
METHOD:PUBLISH
X-WR-CALNAME:Leeds for Change
X-ORIGINAL-URL:https://leedsforchange.org.uk
X-WR-CALDESC:Events for Leeds for Change
BEGIN:VEVENT
DTSTART;TZID=UTC+0:20190128T120000
DTEND;TZID=UTC+0:20190128T200000
DTSTAMP:20260421T140157
CREATED:20190125T151434Z
LAST-MODIFIED:20190125T151434Z
UID:12347-1548676800-1548705600@leedsforchange.org.uk
SUMMARY:On The Road To A People’s Vote: Leeds!
DESCRIPTION:Come join Our Future\, Our Choice campaigning on Leeds campus on Monday 28th as part of our battle bus tour of Yorkshire! We want to discuss Brexit and hear what you think. \nJoin us and the bus outside the Parkinson building from 12:00 till 15:30 to sign the battlebus and find out ways to get involved! \nAre you a young person living in Leeds? Think Brexit is shit? Join us at The Library pub for a pint or a diet coke with Femi and the team. \n
URL:https://leedsforchange.org.uk/event/on-the-road-to-a-peoples-vote-leeds/
LOCATION:162A Woodhouse Ln\, Leeds\, LS2 9JT\, United Kingdom
GEO:53.8080902;-1.551982
X-APPLE-STRUCTURED-LOCATION;VALUE=URI;X-ADDRESS=162A Woodhouse Ln Leeds LS2 9JT United Kingdom;X-APPLE-RADIUS=500;X-TITLE=162A Woodhouse Ln:geo:-1.551982,53.8080902
END:VEVENT
END:VCALENDAR