BEGIN:VCALENDAR
VERSION:2.0
PRODID:-//Leeds for Change - ECPv4.6.15//NONSGML v1.0//EN
CALSCALE:GREGORIAN
METHOD:PUBLISH
X-WR-CALNAME:Leeds for Change
X-ORIGINAL-URL:https://leedsforchange.org.uk
X-WR-CALDESC:Events for Leeds for Change
BEGIN:VEVENT
DTSTART;TZID=UTC+0:20190325T190000
DTEND;TZID=UTC+0:20190325T203000
DTSTAMP:20260421T091347
CREATED:20190317T151150Z
LAST-MODIFIED:20190317T151150Z
UID:13069-1553540400-1553545800@leedsforchange.org.uk
SUMMARY:Momentum March Members Meeting
DESCRIPTION:join us for the March Momentum Leeds members meeting. \nWe will be electing an Equalities Officer. If you’d like to nominate yourself\, please email leedspeoplesmomentum@gmail.com. \n**If you have access needs please get in touch. The venue is accessible but Google Maps will take you to the wrong side of the building.** \nFree food and childcare will be provided. If you wish to use the creche\, please register here to give us an idea of numbers: https://www.eventbrite.co.uk/e/creche-march-members-meeting-tickets-58638216484. \nThere will be a collection to cover costs. \n
URL:https://leedsforchange.org.uk/event/momentum-march-members-meeting/
LOCATION:Bridge Street\, Leeds\, LS2 7QZ\, United Kingdom
GEO:53.7995991;-1.5363278
X-APPLE-STRUCTURED-LOCATION;VALUE=URI;X-ADDRESS=Bridge Street Leeds LS2 7QZ United Kingdom;X-APPLE-RADIUS=500;X-TITLE=Bridge Street:geo:-1.5363278,53.7995991
ATTACH;FMTTYPE=image/jpeg:https://leedsforchange.org.uk/assets/uploads/2019/03/Momentum.jpg
END:VEVENT
END:VCALENDAR