BEGIN:VCALENDAR
VERSION:2.0
PRODID:-//Leeds for Change - ECPv4.6.15//NONSGML v1.0//EN
CALSCALE:GREGORIAN
METHOD:PUBLISH
X-WR-CALNAME:Leeds for Change
X-ORIGINAL-URL:https://leedsforchange.org.uk
X-WR-CALDESC:Events for Leeds for Change
BEGIN:VEVENT
DTSTART;TZID=UTC+0:20200702T190000
DTEND;TZID=UTC+0:20200702T203000
DTSTAMP:20260420T012851
CREATED:20200626T115952Z
LAST-MODIFIED:20200626T115952Z
UID:17330-1593712800-1593718200@leedsforchange.org.uk
SUMMARY:Marxist Crash Course (by Leeds Marxist Society)
DESCRIPTION:Join us for a 4 week crash course on Marxism starting on the 25th June! \nWith the coronavirus pandemic affecting millions of lives and triggering a new economic crisis on a scale far larger than the Great Depression\, the stage is set for an increase in the class struggle and revolutionary events. \nAs we’ve already seen with the international Black Lives Matter movement\, people are starting to question the system around them and discuss the best way to fight for a better world. This course will look at the Marxist approach to some of these key questions and how Marxism can help us understand and point the way forward for humanity. \nThis course is for everyone\, whether just curious about the ideas or already familiar with Marxism\, it will provide the opportunity to learn about and discuss with others the following topics. You can come for one week or to all four. All are welcome! \n‘The State’ – Thursday 25th June \n‘Anarchism’ – Thursday 2nd July \n‘Fascism and the Far Right’ – Thursday 9th July \n‘Reform and Revolution’ – Thursday 16th July \n
URL:https://leedsforchange.org.uk/event/marxist-crash-course-by-leeds-marxist-society/2020-07-02/
ATTACH;FMTTYPE=image/jpeg:https://leedsforchange.org.uk/assets/uploads/2020/06/105596664_2982804078612592_4306737271242123338_o.jpg
END:VEVENT
END:VCALENDAR