BEGIN:VCALENDAR
VERSION:2.0
PRODID:-//Leeds for Change - ECPv4.6.15//NONSGML v1.0//EN
CALSCALE:GREGORIAN
METHOD:PUBLISH
X-WR-CALNAME:Leeds for Change
X-ORIGINAL-URL:https://leedsforchange.org.uk
X-WR-CALDESC:Events for Leeds for Change
BEGIN:VEVENT
DTSTART;TZID=UTC+0:20200810T190000
DTEND;TZID=UTC+0:20200810T210000
DTSTAMP:20260421T121616
CREATED:20200807T130425Z
LAST-MODIFIED:20200807T130425Z
UID:17670-1597082400-1597089600@leedsforchange.org.uk
SUMMARY:Marxism and History (by Leeds Socialists)
DESCRIPTION:At this online event Leeds Socialist Party will introduce a discussion on the Marxist view of History. \nThis meeting will take place via zoom. Please message for details \nfurther reading:\nhttps://www.socialistparty.org.uk/articles/28107/17-10-2018/the-renewed-relevance-of-engels-classic-socialism-utopian-and-scientific \n
URL:https://leedsforchange.org.uk/event/marxism-and-history-by-leeds-socialists/
ATTACH;FMTTYPE=image/jpeg:https://leedsforchange.org.uk/assets/uploads/2020/08/117215918_3080785762019931_6410418988525465230_n.jpg
END:VEVENT
END:VCALENDAR