BEGIN:VCALENDAR
VERSION:2.0
PRODID:-//Leeds for Change - ECPv4.6.15//NONSGML v1.0//EN
CALSCALE:GREGORIAN
METHOD:PUBLISH
X-WR-CALNAME:Leeds for Change
X-ORIGINAL-URL:https://leedsforchange.org.uk
X-WR-CALDESC:Events for Leeds for Change
BEGIN:VEVENT
DTSTART;TZID=UTC+0:20180414T110000
DTEND;TZID=UTC+0:20180414T140000
DTSTAMP:20260422T232307
CREATED:20180326T123551Z
LAST-MODIFIED:20180326T123551Z
UID:8913-1523700000-1523710800@leedsforchange.org.uk
SUMMARY:March for the NHS
DESCRIPTION:March to fund the NHS. Oppose cuts\, privatisation and outsourcing the NHS for profit. \n
URL:https://leedsforchange.org.uk/event/march-for-the-nhs/
LOCATION:The Headrow\, Leeds\, LS1 3AA
GEO:53.7994275;-1.5450847
X-APPLE-STRUCTURED-LOCATION;VALUE=URI;X-ADDRESS=The Headrow Leeds LS1 3AA;X-APPLE-RADIUS=500;X-TITLE=The Headrow:geo:-1.5450847,53.7994275
ATTACH;FMTTYPE=image/jpeg:https://leedsforchange.org.uk/assets/uploads/2018/03/Leeds-NHS-march.jpg
END:VEVENT
END:VCALENDAR