BEGIN:VCALENDAR
VERSION:2.0
PRODID:-//Leeds for Change - ECPv4.6.15//NONSGML v1.0//EN
CALSCALE:GREGORIAN
METHOD:PUBLISH
X-WR-CALNAME:Leeds for Change
X-ORIGINAL-URL:https://leedsforchange.org.uk
X-WR-CALDESC:Events for Leeds for Change
BEGIN:VEVENT
DTSTART;TZID=UTC+0:20171126T110000
DTEND;TZID=UTC+0:20171126T120000
DTSTAMP:20260423T030725
CREATED:20171124T101227Z
LAST-MODIFIED:20171124T101227Z
UID:7253-1511694000-1511697600@leedsforchange.org.uk
SUMMARY:Make Wreaths and Crafts
DESCRIPTION:This event is run as a fundraiser for the garden developments at Hollybush by a volunteer from Friends of Hollybush. \nDuring the Christmas Fair there will be a chance to have a go at making a natural Christmas Decoration for yourself. Workshops need to be booked in advance. Materials are all included and whe you have finished you can browse the stalls and get a cup of tea and cake\, or some home made soup. \nThe workshops will take place in the Roundhouse\, a fantastic\, fully accessible (and warm) new facility at Hollybush. \nOlder children are welcome at a discount\, but space in the Roundhouse is limited so it is not possible for you and a young child to ‘share’ a place. Childrens crafts will be available alogside the Fairy Trail. \nChildren over 14 will need to pay the full cost. \n
URL:https://leedsforchange.org.uk/event/make-wreaths-and-crafts/
LOCATION:Leeds\, LS5 3BP\, United Kingdom
GEO:53.8156004;-1.6079562
ATTACH;FMTTYPE=image/jpeg:https://leedsforchange.org.uk/assets/uploads/2017/11/facebook_event_266171130558287.jpg
END:VEVENT
END:VCALENDAR