BEGIN:VCALENDAR
VERSION:2.0
PRODID:-//Leeds for Change - ECPv4.6.15//NONSGML v1.0//EN
CALSCALE:GREGORIAN
METHOD:PUBLISH
X-WR-CALNAME:Leeds for Change
X-ORIGINAL-URL:https://leedsforchange.org.uk
X-WR-CALDESC:Events for Leeds for Change
BEGIN:VEVENT
DTSTART;TZID=UTC+0:20190227T120000
DTEND;TZID=UTC+0:20190227T130000
DTSTAMP:20260420T111030
CREATED:20190220T204827Z
LAST-MODIFIED:20190225T042339Z
UID:12745-1551268800-1551272400@leedsforchange.org.uk
SUMMARY:Lobby Leeds City Council Budget Setting Meeting
DESCRIPTION:Following our public meeting to discuss how councils can resist austerity and Leeds City Council’s 2019-20 budget\, which includes adding £4.5 million to its general reserves\, Leeds TUC will be organising a lobby of Leeds City Council’s budget setting meeting on 27th February to promote these proposals. \nWe will be focussing on two points in particular: \n* Support for Leeds Unison’s campaign to see outsourced workers paid at least the same minimum wage that Leeds City Council is paying its in-house workforce.\n* Opposing the plans to increase rents in PFI council properties by an inflation-busting 3.4% \nThe full alternative proposals can be found on our website – https://leedstuc.wordpress.com/2019/02/16/leeds-tuc-to-lobby-councillors-for-alternative-budget-proposals/ \n
URL:https://leedsforchange.org.uk/event/lobby-leeds-city-council-budget-setting-meeting/
LOCATION:Leeds Civic Hall\, LS1 1UR
GEO:53.802202;-1.548522
X-APPLE-STRUCTURED-LOCATION;VALUE=URI;X-ADDRESS=Leeds Civic Hall LS1 1UR;X-APPLE-RADIUS=500;X-TITLE=Leeds Civic Hall:geo:-1.548522,53.802202
ATTACH;FMTTYPE=image/jpeg:https://leedsforchange.org.uk/assets/uploads/2019/02/budget.jpg
ORGANIZER;CN="Leeds%20TUC":MAILTO:leedstuc@gmail.com
END:VEVENT
END:VCALENDAR