BEGIN:VCALENDAR
VERSION:2.0
PRODID:-//Leeds for Change - ECPv4.6.15//NONSGML v1.0//EN
CALSCALE:GREGORIAN
METHOD:PUBLISH
X-WR-CALNAME:Leeds for Change
X-ORIGINAL-URL:https://leedsforchange.org.uk
X-WR-CALDESC:Events for Leeds for Change
BEGIN:VEVENT
DTSTART;TZID=UTC+1:20180413T180000
DTEND;TZID=UTC+1:20180413T200000
DTSTAMP:20260422T181810
CREATED:20180322T175029Z
LAST-MODIFIED:20180322T175029Z
UID:8892-1523638800-1523646000@leedsforchange.org.uk
SUMMARY:Live at All Hallows' Rainbow Bistro
DESCRIPTION:Come and help save the planet\, just by having dinner 🙂 \nWe are turned waste food into delicious pre-gig food at our Bistro evening. Book your ticket for free and then pay-as-you-can on the night itself. \nVegan and gluten free options always provided. \nDue to the starting time of the gig we will be having an early start on dinner\, please arrive between 6pm and 6.30pm to allow time to eat \nDon’t forget to get your Megson tickets also https://www.facebook.com/events/347332472448762/ \n
URL:https://leedsforchange.org.uk/event/live-at-all-hallows-rainbow-bistro/
ATTACH;FMTTYPE=image/jpeg:https://leedsforchange.org.uk/assets/uploads/2018/03/facebook_event_254681171741039.jpg
END:VEVENT
END:VCALENDAR