BEGIN:VCALENDAR
VERSION:2.0
PRODID:-//Leeds for Change - ECPv4.6.15//NONSGML v1.0//EN
CALSCALE:GREGORIAN
METHOD:PUBLISH
X-WR-CALNAME:Leeds for Change
X-ORIGINAL-URL:https://leedsforchange.org.uk
X-WR-CALDESC:Events for Leeds for Change
BEGIN:VEVENT
DTSTART;TZID=UTC+1:20180411T140000
DTEND;TZID=UTC+1:20180411T150000
DTSTAMP:20260422T100418
CREATED:20180315T125403Z
LAST-MODIFIED:20180612T114408Z
UID:8780-1523451600-1523455200@leedsforchange.org.uk
SUMMARY:Lingwell Carers Group (Any Carer)
DESCRIPTION:**Where**\nBased in South Leeds\, this group is open to all carer in the area. \n**Travel by Bus**\nTBC \n**Travel by Car**\nTBC \n**Questions**\nThinking of attending but need to ask a question\, then please call us on 0113 380 4300 \n**Other Support***\nFind out about other groups – goo.gl/ievrBf\nFind out about other services – http://www.carersleeds.org.uk \n
URL:https://leedsforchange.org.uk/event/lingwell-carers-group-any-carer/2018-04-11/
ATTACH;FMTTYPE=image/jpeg:https://leedsforchange.org.uk/assets/uploads/2018/03/facebook_event_144286569727748.jpg
END:VEVENT
END:VCALENDAR