BEGIN:VCALENDAR
VERSION:2.0
PRODID:-//Leeds for Change - ECPv4.6.15//NONSGML v1.0//EN
CALSCALE:GREGORIAN
METHOD:PUBLISH
X-WR-CALNAME:Leeds for Change
X-ORIGINAL-URL:https://leedsforchange.org.uk
X-WR-CALDESC:Events for Leeds for Change
BEGIN:VEVENT
DTSTART;TZID=UTC+0:20190203T140000
DTEND;TZID=UTC+0:20190203T160000
DTSTAMP:20260422T191523
CREATED:20190201T222336Z
LAST-MODIFIED:20190201T222336Z
UID:12476-1549202400-1549209600@leedsforchange.org.uk
SUMMARY:Leeds Universal Credit Campaign Alliance meeting
DESCRIPTION:This will be the second meeting of the hub group for the Leeds Universal Credit Campaign Alliance meeting. Everyone is welcome. \nThe purpose of a Leeds-wide campaign alliance is to connect up the various groups that are involved – or want to be involved – in campaigning against Universal Credit or offering practical solidarity to those affected. This includes claimants and those supporting them\, trade union and party branches\, community projects\, tenants and residents groups\, advice and advocacy workers (professional and informal)\, and others…. \nAs well as connecting people to build a more powerful campaign\, the hub-group can do tasks like coordinating actions\, stalls and door-knocking sessions\, local meetings and the like\, and offer support to new groups or those wanting to put on an event. Another function might be to bring together those keen to develop strong and well thought-out policy demands\, and strategies for feeding these into campaigns and party manifestos. \nAt the last meeting we agreed to devote time to developing policy demands to feed into the next Labour Party manifesto\, and which campaigners can get behind to that end. We discussed taking these ideas into forums where affected claimants and others at the “coal face” such as advice workers could give feedback and help develop the demands. This is where our diverse networks and connections will be a vital resource. \nAt the same time\, it is important to think about the movement-building aspect: how to bring about the mass grass-roots demand for a benefits system which empowers workers rather than trapping them in low-waged and futile forms of employment\, and radically challenges the inequalities produced by a sole focus on waged employment a means to escape poverty. \nA suggestion for Sunday’s meeting might be to devote roughly half the time to a discussion of policy demands\, and the remainder to planning outreach activities\, including taking our policy ideas out to affected groups but also building in public places and forums. People are of course welcome to suggest what they would like to include in the meeting. \n
URL:https://leedsforchange.org.uk/event/leeds-universal-credit-campaign-alliance-meeting/
LOCATION:24 Regent Terrace\, Leeds\, West-Yorkshire\, LS6 1NP\, United Kingdom
GEO:53.808266;-1.5681696
X-APPLE-STRUCTURED-LOCATION;VALUE=URI;X-ADDRESS=24 Regent Terrace Leeds West-Yorkshire LS6 1NP United Kingdom;X-APPLE-RADIUS=500;X-TITLE=24 Regent Terrace:geo:-1.5681696,53.808266
ATTACH;FMTTYPE=image/jpeg:https://leedsforchange.org.uk/assets/uploads/2019/02/uccam.jpg
END:VEVENT
END:VCALENDAR