BEGIN:VCALENDAR
VERSION:2.0
PRODID:-//Leeds for Change - ECPv4.6.15//NONSGML v1.0//EN
CALSCALE:GREGORIAN
METHOD:PUBLISH
X-WR-CALNAME:Leeds for Change
X-ORIGINAL-URL:https://leedsforchange.org.uk
X-WR-CALDESC:Events for Leeds for Change
BEGIN:VEVENT
DTSTART;TZID=UTC+0:20191124T130000
DTEND;TZID=UTC+0:20191124T160000
DTSTAMP:20260425T124918
CREATED:20191119T165417Z
LAST-MODIFIED:20191119T165417Z
UID:15347-1574600400-1574611200@leedsforchange.org.uk
SUMMARY:Leeds Red Rebels Meeting
DESCRIPTION:All welcome\nApproximate timings:\n1.00 – Lunch (please being vegan / vegi food to share)\n1.30 – Meeting to discuss future actions & meetings. We intend to do this as a zoom meeting so please let us know if you’re unable to attend but would like to join by zoom.\n2.30 – 4.00 – Dress rehearsal. Please bring any costumes\nOSA usually charge £30 per hour. They’re not charging us but would welcome contributions. Please bring a financial contribution if possible. \n
URL:https://leedsforchange.org.uk/event/leeds-red-rebels-meeting/
LOCATION:Unit 1A\, Aire Place Mills\, 143 Kirkstall Road\, LS3 1JL
GEO:53.8021914;-1.5716014
X-APPLE-STRUCTURED-LOCATION;VALUE=URI;X-ADDRESS=Unit 1A Aire Place Mills 143 Kirkstall Road LS3 1JL;X-APPLE-RADIUS=500;X-TITLE=Unit 1A\, Aire Place Mills\, 143 Kirkstall Road:geo:-1.5716014,53.8021914
ATTACH;FMTTYPE=image/jpeg:https://leedsforchange.org.uk/assets/uploads/2019/11/74834471_1607340022735799_2541842086215286784_o.jpg
END:VEVENT
END:VCALENDAR