BEGIN:VCALENDAR
VERSION:2.0
PRODID:-//Leeds for Change - ECPv4.6.15//NONSGML v1.0//EN
CALSCALE:GREGORIAN
METHOD:PUBLISH
X-WR-CALNAME:Leeds for Change
X-ORIGINAL-URL:https://leedsforchange.org.uk
X-WR-CALDESC:Events for Leeds for Change
BEGIN:VEVENT
DTSTART;TZID=UTC+0:20190918T193000
DTEND;TZID=UTC+0:20190918T210000
DTSTAMP:20260420T215710
CREATED:20190717T182215Z
LAST-MODIFIED:20190717T182215Z
UID:14166-1568831400-1568836800@leedsforchange.org.uk
SUMMARY:Leeds People's Choir
DESCRIPTION:Join a friendly\, mixed – voice broadly secular choir – welcoming all who wish to sing songs of joy\, struggle\, liberation\, celebration and peace from around the world. \nNo auditions required and new people are welcome to try the first two sessions free. \nWednesdays 7.30pm – 9.30pm \nFee £50/£70/£100 or £7per week plus £12 Swarthmore annual membership fee. \nFor further information visit www.leedspeoplechoir.org.uk or email leedspeopleschoir@virginmedia.com \nEnrolment can be made on the night\, the first session of term is Wednesday 18th of September 2019 \n
URL:https://leedsforchange.org.uk/event/leeds-peoples-choir/2019-09-18/
LOCATION:2 Woodhouse Square\, Leeds\, LS3 1AD
GEO:53.8012645;-1.5571834
X-APPLE-STRUCTURED-LOCATION;VALUE=URI;X-ADDRESS=2 Woodhouse Square Leeds LS3 1AD;X-APPLE-RADIUS=500;X-TITLE=2 Woodhouse Square:geo:-1.5571834,53.8012645
ATTACH;FMTTYPE=image/jpeg:https://leedsforchange.org.uk/assets/uploads/2019/07/Leeds-Peoples-Choir.jpg
END:VEVENT
END:VCALENDAR