BEGIN:VCALENDAR
VERSION:2.0
PRODID:-//Leeds for Change - ECPv4.6.15//NONSGML v1.0//EN
CALSCALE:GREGORIAN
METHOD:PUBLISH
X-WR-CALNAME:Leeds for Change
X-ORIGINAL-URL:https://leedsforchange.org.uk
X-WR-CALDESC:Events for Leeds for Change
BEGIN:VEVENT
DTSTART;TZID=UTC+0:20190618T180000
DTEND;TZID=UTC+0:20190618T200000
DTSTAMP:20260425T002356
CREATED:20190604T160359Z
LAST-MODIFIED:20190617T110820Z
UID:13798-1560877200-1560884400@leedsforchange.org.uk
SUMMARY:Leeds For Climate social
DESCRIPTION:Social event to bring together anyone in and around Leeds who is interested in finding solutions to help us avoid climate breakdown. Chance to network and find out what everyone else is up to. \nAs Greta would say: “Everyone is welcome\, everyone is needed.” \nPlease invite colleagues\, friends\, family. Only if we all work together do we have chance to achieve the dramatic and just climate transition that we need. \nWe’ll be in Bridge Street Church – first room on the left as you enter. Hope to see you there. \nWith love\,\nLeeds For Climate \nJoin our FB group: https://www.facebook.com/groups/LeedsForClimate/ \nP.S Food and drinks will be available for purchase \n
URL:https://leedsforchange.org.uk/event/leeds-for-climate-social/
ATTACH;FMTTYPE=image/jpeg:https://leedsforchange.org.uk/assets/uploads/2019/06/60658180_10216961276596629_4489078574870953984_n.jpg
END:VEVENT
END:VCALENDAR