BEGIN:VCALENDAR
VERSION:2.0
PRODID:-//Leeds for Change - ECPv4.6.15//NONSGML v1.0//EN
CALSCALE:GREGORIAN
METHOD:PUBLISH
X-WR-CALNAME:Leeds for Change
X-ORIGINAL-URL:https://leedsforchange.org.uk
X-WR-CALDESC:Events for Leeds for Change
BEGIN:VEVENT
DTSTART;TZID=UTC+0:20200919T110000
DTEND;TZID=UTC+0:20200919T123000
DTSTAMP:20260421T124819
CREATED:20200917T114239Z
LAST-MODIFIED:20200917T115043Z
UID:18037-1600509600-1600515000@leedsforchange.org.uk
SUMMARY:Leeds for Change Supporter Event
DESCRIPTION:\n\n\n\nShape the direction of Leeds for Change. What challenges do you face in your change-making? How has LFC helped and what more can we do?\n\n\n\n\n\n—\n\n\nLast month\, our staff and steering committee met to reflect on our work over the last 6 years and plan how to make our work ahead sustainable for the long term. \nAmid the uncertainty of this moment\, we want to be clear about our successes and difficulties\, where we want to go next\, and hold space for our community of support to advise us and shape our work.  \nWe run on donations from the people of Leeds. Our donors have enabled us to make it easier to get involved in Leeds activism across issues – from racial justice and climate justice\, to worker’s rights and youth organising. Our tools are used over 1\,000 times a month and promote over 180 social change groups in Leeds.  \nDuring the event\, we’ll share an overview of our work over the last years\, share our plans and visions\, ask for your input to shape our direction\, and offer ways to be a part of the work.  \nWe’re inviting current supporters\, prospective supporters and all friends of Leeds for Change – we hope you can make it. We know our vision for supporting social justice in Leeds going forward demand strengthening and widening our supporter community\, and we’d love for you to be a part of it.  \n— \nThe event will take place online via Zoom. If you register\, we’ll send the Zoom link (for you the join the meeting) closer to the event time.  \nHere is a guide on how to use Zoom. If you have any questions about this event\, email them to us at info@leedsforchange.org.uk.  \nThe session will be recorded so we can make notes of what is said. The recording will be stored confidentially for LFC team to read only\, and will be deleted after we have taken notes.  \nSee you there! \n\n
URL:https://leedsforchange.org.uk/event/leeds-for-change-supporter-event/
ATTACH;FMTTYPE=image/jpeg:https://leedsforchange.org.uk/assets/uploads/2020/09/https___cdn.evbuc_.com_images_111050067_406868945627_1_original.jpeg
END:VEVENT
END:VCALENDAR