BEGIN:VCALENDAR
VERSION:2.0
PRODID:-//Leeds for Change - ECPv4.6.15//NONSGML v1.0//EN
CALSCALE:GREGORIAN
METHOD:PUBLISH
X-WR-CALNAME:Leeds for Change
X-ORIGINAL-URL:https://leedsforchange.org.uk
X-WR-CALDESC:Events for Leeds for Change
BEGIN:VEVENT
DTSTART;TZID=UTC+0:20200513T180000
DTEND;TZID=UTC+0:20200513T190000
DTSTAMP:20260419T194543
CREATED:20200426T163911Z
LAST-MODIFIED:20200426T163911Z
UID:16818-1589389200-1589392800@leedsforchange.org.uk
SUMMARY:Leeds CND monthly meeting
DESCRIPTION:We’ve moved our monthly meetings onto Zoom for the duration of the lockdown. You don’t need a Zoom account to join us or even a computer\, you can dial in from your landline at local rate. \nJoin Zoom Meeting\nhttps://zoom.us/j/966718978?pwd=eDlENkg4aDlhZnZDOHllRVZIb3FBZz09 \nMeeting ID: 966 718 978\nPassword: LS62020 \nOne tap mobile\n+442034815240\,\,966718978# United Kingdom\n+442080806591\,\,966718978# United Kingdom \nDial by your location\n+44 203 481 5240 United Kingdom \n
URL:https://leedsforchange.org.uk/event/leeds-cnd-monthly-meeting/2020-05-13/
ATTACH;FMTTYPE=image/jpeg:https://leedsforchange.org.uk/assets/uploads/2020/04/92093684_1743284209146925_5967515981554122752_o.jpg
END:VEVENT
END:VCALENDAR