BEGIN:VCALENDAR
VERSION:2.0
PRODID:-//Leeds for Change - ECPv4.6.15//NONSGML v1.0//EN
CALSCALE:GREGORIAN
METHOD:PUBLISH
X-WR-CALNAME:Leeds for Change
X-ORIGINAL-URL:https://leedsforchange.org.uk
X-WR-CALDESC:Events for Leeds for Change
BEGIN:VEVENT
DTSTART;TZID=UTC+0:20190621T111500
DTEND;TZID=UTC+0:20190621T114500
DTSTAMP:20260421T103806
CREATED:20190416T145341Z
LAST-MODIFIED:20190416T145341Z
UID:13320-1561112100-1561113900@leedsforchange.org.uk
SUMMARY:Learning Disability Pride march
DESCRIPTION:We will be marching from the Wedding Garden at Temple Newsam. We will set of at 11.15. The walk will take around 20 minutes.\nThis is the same day as the Picnic in Park so there will be lots more to see and do after the march \n
URL:https://leedsforchange.org.uk/event/learning-disability-pride-march/
LOCATION:Office 42 Sugar Mill Business Park\, Leeds\, LS11 7HL
GEO:53.7662552;-1.5625702
X-APPLE-STRUCTURED-LOCATION;VALUE=URI;X-ADDRESS=Office 42 Sugar Mill Business Park Leeds LS11 7HL;X-APPLE-RADIUS=500;X-TITLE=Office 42 Sugar Mill Business Park:geo:-1.5625702,53.7662552
ATTACH;FMTTYPE=image/jpeg:https://leedsforchange.org.uk/assets/uploads/2019/04/learning.jpg
END:VEVENT
END:VCALENDAR