BEGIN:VCALENDAR
VERSION:2.0
PRODID:-//Leeds for Change - ECPv4.6.15//NONSGML v1.0//EN
CALSCALE:GREGORIAN
METHOD:PUBLISH
X-WR-CALNAME:Leeds for Change
X-ORIGINAL-URL:https://leedsforchange.org.uk
X-WR-CALDESC:Events for Leeds for Change
BEGIN:VEVENT
DTSTART;TZID=UTC+0:20190130T193000
DTEND;TZID=UTC+0:20190130T213000
DTSTAMP:20260422T071328
CREATED:20190125T193521Z
LAST-MODIFIED:20190125T193522Z
UID:12322-1548876600-1548883800@leedsforchange.org.uk
SUMMARY:Kirkstall Forum Annual General Meeting
DESCRIPTION:A major item of business will be the new housing proposals for the adjacent retail and industrial sites\, which have been largely derelict for the last twenty years. We will also report progress on public footpaths\, Kirkstall Valley Park and the opportunities created by Phase 2 of the Leeds Flood Alleviation Scheme. New and existing members are welcome at this meeting\, and anybody who lives\, works or does business in Kirkstall can join. \nWhat is a Neighbourhood Forum?\nSince 2011 local community groups have been given a much bigger say in Town Planning decisions. Providing we follow some basic rules\, we can write our own planning policies for the Kirkstall area. We can ensure that we only get the kind of building that residents want to see. \n
URL:https://leedsforchange.org.uk/event/kirkstall-forum-annual-general-meeting/
LOCATION:4 Beecroft Street\, LS5 3AS
GEO:53.8149829;-1.6005958
X-APPLE-STRUCTURED-LOCATION;VALUE=URI;X-ADDRESS=4 Beecroft Street LS5 3AS;X-APPLE-RADIUS=500;X-TITLE=4 Beecroft Street:geo:-1.6005958,53.8149829
ATTACH;FMTTYPE=image/jpeg:https://leedsforchange.org.uk/assets/uploads/2019/01/kirkstall-forum.jpg
ORGANIZER;CN="Kirkstall%20Forum":MAILTO:info@kirkstallforum.org
END:VEVENT
END:VCALENDAR