BEGIN:VCALENDAR
VERSION:2.0
PRODID:-//Leeds for Change - ECPv4.6.15//NONSGML v1.0//EN
CALSCALE:GREGORIAN
METHOD:PUBLISH
X-WR-CALNAME:Leeds for Change
X-ORIGINAL-URL:https://leedsforchange.org.uk
X-WR-CALDESC:Events for Leeds for Change
BEGIN:VEVENT
DTSTART;TZID=UTC+0:20171208T130000
DTEND;TZID=UTC+0:20171208T150000
DTSTAMP:20260422T030737
CREATED:20171124T101218Z
LAST-MODIFIED:20171124T101218Z
UID:7247-1512738000-1512745200@leedsforchange.org.uk
SUMMARY:High Rise Music - Carnival Musical
DESCRIPTION:High Rise Music group visited The Tetley during the 50 Years of Leeds West Indian Carnival exhibition\, and performed a few of the songs they created\, inspired by what they saw and heard.  \nThis musical will be the full finished piece\, and performed at Seven Arts in Chapel Allerton.  \nEntrance is Pay as You Feel\, with all proceeds going towards the High Rise Visual Arts sculpture. (We will not turn anyone away if they are unable to donate) \n
URL:https://leedsforchange.org.uk/event/high-rise-music-carnival-musical/
LOCATION:31A Harrogate Road\, Leeds\, LS7 3PD\, United Kingdom
GEO:53.8278011;-1.537324
X-APPLE-STRUCTURED-LOCATION;VALUE=URI;X-ADDRESS=31A Harrogate Road Leeds LS7 3PD United Kingdom;X-APPLE-RADIUS=500;X-TITLE=31A Harrogate Road:geo:-1.537324,53.8278011
ATTACH;FMTTYPE=image/jpeg:https://leedsforchange.org.uk/assets/uploads/2017/11/facebook_event_1723076267704586.jpg
END:VEVENT
END:VCALENDAR