BEGIN:VCALENDAR
VERSION:2.0
PRODID:-//Leeds for Change - ECPv4.6.15//NONSGML v1.0//EN
CALSCALE:GREGORIAN
METHOD:PUBLISH
X-WR-CALNAME:Leeds for Change
X-ORIGINAL-URL:https://leedsforchange.org.uk
X-WR-CALDESC:Events for Leeds for Change
BEGIN:VEVENT
DTSTART;TZID=UTC+0:20190607T120000
DTEND;TZID=UTC+0:20190610T180000
DTSTAMP:20260420T150507
CREATED:20190317T144516Z
LAST-MODIFIED:20190317T144516Z
UID:13024-1559905200-1560186000@leedsforchange.org.uk
SUMMARY:Green Party Spring Conference 2019
DESCRIPTION:\nJoin us in Scarborough this June to recharge your political batteries after the local elections! \nConference is a great opportunity to meet other like-minded members from across the UK\, learn more about our policies\, take part in our activist training sessions\, take part in debates\, network and socialise…. And all this in the beautiful setting of the Victorian Spa on Scarborough’s South Bay Beach. \nOver the four days there will be policy making and discussion groups\, topical fringes and panel debates\, social sessions such as walks and music\, an exhibition\, and of course we will be discussing the outcome of the Holistic Review which will decide the future governance of the party. \nBookings will open early March. Can’t commit to four days? No problem – you can book for any two or all four days. Members and supporters alike are welcome\, so how about bringing a friend who wants to find out more about us? \nCheck our https://www.greenparty.org.uk/conference for info on Bookings\, Timetable\, Agenda\, Access Fund\, Conference Creche\, Accessibility\, First Timer Support\, Travel\, Accommodation\, and more. \nPlease note that if you are interested in submitting a motion\, the deadline for doing so is 7 March. You can find the agenda deadlines and guidance on how the policy process works on the members’ website. \nWe look forward to seeing you there! \n\n
URL:https://leedsforchange.org.uk/event/green-party-spring-conference-2019/
LOCATION:South Bay\, Scarborough\, YO11 2HD
GEO:54.2756898;-0.3974294
X-APPLE-STRUCTURED-LOCATION;VALUE=URI;X-ADDRESS=South Bay Scarborough YO11 2HD;X-APPLE-RADIUS=500;X-TITLE=South Bay:geo:-0.3974294,54.2756898
ATTACH;FMTTYPE=image/jpeg:https://leedsforchange.org.uk/assets/uploads/2019/03/Green-Party.jpg
END:VEVENT
END:VCALENDAR