BEGIN:VCALENDAR
VERSION:2.0
PRODID:-//Leeds for Change - ECPv4.6.15//NONSGML v1.0//EN
CALSCALE:GREGORIAN
METHOD:PUBLISH
X-WR-CALNAME:Leeds for Change
X-ORIGINAL-URL:https://leedsforchange.org.uk
X-WR-CALDESC:Events for Leeds for Change
BEGIN:VEVENT
DTSTART;TZID=UTC+0:20190317T130000
DTEND;TZID=UTC+0:20190317T150000
DTSTAMP:20260421T004937
CREATED:20190228T145139Z
LAST-MODIFIED:20190228T145139Z
UID:12907-1552827600-1552834800@leedsforchange.org.uk
SUMMARY:Germinar #8: New Narrative
DESCRIPTION:A germinar is a space of collective learning\, fun\, and repose. It has no learning outcomes\, no requirements\, no teachers\, and no curriculum. Instead\, we aim to create a collective that is self-run and self-taught\, that looks at austerity\, the neoliberal university\, and immigration policies in the UK in the context of queer lives and queer theory. \nWe intend to create a space that is open and unstructured for people to come share ideas and intervene without the stress and the labor of organising\, while still reflecting on the realities of our lives\, our city\, and our futures. We will avoid producing more politics at all costs. \n+++ \nDipping our toes into literature for the first time\, we’re going to be reading about the New Narrative movement. An experimental literary style and theory\, it includes a number of US-based queer poets and novelists influenced by the AIDS epidemic. We’ll read some excerpts and think about the links between writing\, life\, and politics. \nA short collection of readings will be made available in advance\, ready to download\, read aloud\, print or leave on a bus seat by this weekend via leedsgerminar.tumblr.com. We’ll post about it when they’re ready. \nAs always\, the readings are not a condition for anyone to come\, no preparation is required to take part in a germinar. There will be snacks\, tea and coffee. A suggested donation of £2 is welcome to cover venue hire. \n
URL:https://leedsforchange.org.uk/event/germinar-8-new-narrative/
ATTACH;FMTTYPE=image/jpeg:https://leedsforchange.org.uk/assets/uploads/2019/02/germ.jpg
END:VEVENT
END:VCALENDAR